BEGIN:VCALENDAR
VERSION:2.0
PRODID:-//Karateclub KCAR - ECPv6.15.20//NONSGML v1.0//EN
CALSCALE:GREGORIAN
METHOD:PUBLISH
X-ORIGINAL-URL:https://www.kcar.be
X-WR-CALDESC:Evenementen voor Karateclub KCAR
REFRESH-INTERVAL;VALUE=DURATION:PT1H
X-Robots-Tag:noindex
X-PUBLISHED-TTL:PT1H
BEGIN:VTIMEZONE
TZID:Europe/Brussels
BEGIN:DAYLIGHT
TZOFFSETFROM:+0100
TZOFFSETTO:+0200
TZNAME:CEST
DTSTART:20250330T010000
END:DAYLIGHT
BEGIN:STANDARD
TZOFFSETFROM:+0200
TZOFFSETTO:+0100
TZNAME:CET
DTSTART:20251026T010000
END:STANDARD
BEGIN:DAYLIGHT
TZOFFSETFROM:+0100
TZOFFSETTO:+0200
TZNAME:CEST
DTSTART:20260329T010000
END:DAYLIGHT
BEGIN:STANDARD
TZOFFSETFROM:+0200
TZOFFSETTO:+0100
TZNAME:CET
DTSTART:20261025T010000
END:STANDARD
BEGIN:DAYLIGHT
TZOFFSETFROM:+0100
TZOFFSETTO:+0200
TZNAME:CEST
DTSTART:20270328T010000
END:DAYLIGHT
BEGIN:STANDARD
TZOFFSETFROM:+0200
TZOFFSETTO:+0100
TZNAME:CET
DTSTART:20271031T010000
END:STANDARD
END:VTIMEZONE
BEGIN:VEVENT
DTSTART;TZID=Europe/Brussels:20260207T083000
DTEND;TZID=Europe/Brussels:20260207T190000
DTSTAMP:20260421T173517
CREATED:20251119T163235Z
LAST-MODIFIED:20251119T163235Z
UID:2138-1770453000-1770490800@www.kcar.be
SUMMARY:Zipangu Pro
DESCRIPTION:
URL:https://www.kcar.be/event/zipangu-pro/
LOCATION:Sporthal Dommelhof\, Toekomstlaan 5\, Pelt\, 3910\, Belgium
END:VEVENT
BEGIN:VEVENT
DTSTART;TZID=Europe/Brussels:20260208T130000
DTEND;TZID=Europe/Brussels:20260208T170000
DTSTAMP:20260421T173517
CREATED:20251119T163503Z
LAST-MODIFIED:20251120T081227Z
UID:2142-1770555600-1770570000@www.kcar.be
SUMMARY:KCAR Kata Cup
DESCRIPTION:
URL:https://www.kcar.be/event/kcar-kata-cup/
LOCATION:Sporthal De Bemvoort\, Jeugdlaan 8\, Pelt\, 3900\, Belgium
END:VEVENT
END:VCALENDAR