BEGIN:VCALENDAR
VERSION:2.0
PRODID:-//Karateclub KCAR - ECPv6.15.20//NONSGML v1.0//EN
CALSCALE:GREGORIAN
METHOD:PUBLISH
X-WR-CALNAME:Karateclub KCAR
X-ORIGINAL-URL:https://www.kcar.be
X-WR-CALDESC:Evenementen voor Karateclub KCAR
REFRESH-INTERVAL;VALUE=DURATION:PT1H
X-Robots-Tag:noindex
X-PUBLISHED-TTL:PT1H
BEGIN:VTIMEZONE
TZID:Europe/Brussels
BEGIN:DAYLIGHT
TZOFFSETFROM:+0100
TZOFFSETTO:+0200
TZNAME:CEST
DTSTART:20250330T010000
END:DAYLIGHT
BEGIN:STANDARD
TZOFFSETFROM:+0200
TZOFFSETTO:+0100
TZNAME:CET
DTSTART:20251026T010000
END:STANDARD
BEGIN:DAYLIGHT
TZOFFSETFROM:+0100
TZOFFSETTO:+0200
TZNAME:CEST
DTSTART:20260329T010000
END:DAYLIGHT
BEGIN:STANDARD
TZOFFSETFROM:+0200
TZOFFSETTO:+0100
TZNAME:CET
DTSTART:20261025T010000
END:STANDARD
BEGIN:DAYLIGHT
TZOFFSETFROM:+0100
TZOFFSETTO:+0200
TZNAME:CEST
DTSTART:20270328T010000
END:DAYLIGHT
BEGIN:STANDARD
TZOFFSETFROM:+0200
TZOFFSETTO:+0100
TZNAME:CET
DTSTART:20271031T010000
END:STANDARD
END:VTIMEZONE
BEGIN:VEVENT
DTSTART;TZID=Europe/Brussels:20260315T083000
DTEND;TZID=Europe/Brussels:20260315T190000
DTSTAMP:20260421T154739
CREATED:20251120T165432Z
LAST-MODIFIED:20251120T165432Z
UID:2154-1773563400-1773601200@www.kcar.be
SUMMARY:Maitoshi Kachi Trophy
DESCRIPTION:
URL:https://www.kcar.be/event/maitoshi-kachi-trophy/
LOCATION:Sporthal De Veldmuis\, Felicien Cauwelstraat 39\, Geraardsbergen\, 9500\, Belgium
END:VEVENT
END:VCALENDAR