BEGIN:VCALENDAR
VERSION:2.0
PRODID:-//Karateclub KCAR - ECPv6.15.20//NONSGML v1.0//EN
CALSCALE:GREGORIAN
METHOD:PUBLISH
X-WR-CALNAME:Karateclub KCAR
X-ORIGINAL-URL:https://www.kcar.be
X-WR-CALDESC:Evenementen voor Karateclub KCAR
REFRESH-INTERVAL;VALUE=DURATION:PT1H
X-Robots-Tag:noindex
X-PUBLISHED-TTL:PT1H
BEGIN:VTIMEZONE
TZID:Europe/Brussels
BEGIN:DAYLIGHT
TZOFFSETFROM:+0100
TZOFFSETTO:+0200
TZNAME:CEST
DTSTART:20250330T010000
END:DAYLIGHT
BEGIN:STANDARD
TZOFFSETFROM:+0200
TZOFFSETTO:+0100
TZNAME:CET
DTSTART:20251026T010000
END:STANDARD
BEGIN:DAYLIGHT
TZOFFSETFROM:+0100
TZOFFSETTO:+0200
TZNAME:CEST
DTSTART:20260329T010000
END:DAYLIGHT
BEGIN:STANDARD
TZOFFSETFROM:+0200
TZOFFSETTO:+0100
TZNAME:CET
DTSTART:20261025T010000
END:STANDARD
BEGIN:DAYLIGHT
TZOFFSETFROM:+0100
TZOFFSETTO:+0200
TZNAME:CEST
DTSTART:20270328T010000
END:DAYLIGHT
BEGIN:STANDARD
TZOFFSETFROM:+0200
TZOFFSETTO:+0100
TZNAME:CET
DTSTART:20271031T010000
END:STANDARD
END:VTIMEZONE
BEGIN:VEVENT
DTSTART;TZID=Europe/Brussels:20260503T090000
DTEND;TZID=Europe/Brussels:20260503T180000
DTSTAMP:20260421T154623
CREATED:20260131T194217Z
LAST-MODIFIED:20260131T194217Z
UID:2765-1777798800-1777831200@www.kcar.be
SUMMARY:Limburgs Kampioenschap WKF
DESCRIPTION:
URL:https://www.kcar.be/event/limburgs-kampioenschap-wkf/
LOCATION:Sporthal Kuringen\, Grote Baan 171\, Hasselt\, 3511\, Belgium
END:VEVENT
END:VCALENDAR